BEGIN:VCALENDAR
VERSION:2.0
PRODID:SchoolNow
CALSCALE:GREGORIAN
BEGIN:VEVENT
UID:720e8a24-ac73-11eb-8189-02b41e2f6989
DTSTAMP:20210504T005539Z
SUMMARY:Yoga
LOCATION:Activities Center
URL;VALUE=URI:https://www.wildernesslakecdd.org/calendar/2592988/yoga
DTSTART:20210513T121500Z
DTEND:20210513T134500Z
END:VEVENT
END:VCALENDAR
