BEGIN:VCALENDAR
VERSION:2.0
PRODID:SchoolNow
CALSCALE:GREGORIAN
BEGIN:VEVENT
UID:544bdc58-ac73-11eb-b48e-02b41e2f6989
DTSTAMP:20210504T005450Z
SUMMARY:Yoga
LOCATION:Activities Center
URL;VALUE=URI:https://www.wildernesslakecdd.org/calendar/2592987/yoga
DTSTART:20210511T121500Z
DTEND:20210511T134500Z
END:VEVENT
END:VCALENDAR
