BEGIN:VCALENDAR
VERSION:2.0
PRODID:SchoolNow
CALSCALE:GREGORIAN
BEGIN:VEVENT
UID:2ade75b0-ac73-11eb-8c5e-02b41e2f6989
DTSTAMP:20210504T005340Z
SUMMARY:Yoga
LOCATION:Activities Center
URL;VALUE=URI:https://www.wildernesslakecdd.org/calendar/2592986/yoga
DTSTART:20210506T121500Z
DTEND:20210506T134500Z
END:VEVENT
END:VCALENDAR
