BEGIN:VCALENDAR
VERSION:2.0
PRODID:SchoolNow
CALSCALE:GREGORIAN
BEGIN:VEVENT
UID:78a285c2-a497-11eb-bbe7-0ed2eb0a5b1d
DTSTAMP:20210424T005323Z
SUMMARY:Walking\, Toning\, and Strengthening Class
LOCATION:Activities Center
URL;VALUE=URI:https://www.wildernesslakecdd.org/calendar/2585431/walking-to
 ning-and-strengthening-class
DTSTART:20210426T133000Z
DTEND:20210426T144500Z
END:VEVENT
END:VCALENDAR
