BEGIN:VCALENDAR
VERSION:2.0
PRODID:SchoolNow
CALSCALE:GREGORIAN
BEGIN:VEVENT
UID:37a4ce90-a497-11eb-a8d4-0ed2eb0a5b1d
DTSTAMP:20210424T005134Z
SUMMARY:Memorial Day BBQ/Resident Appreciation Day
URL;VALUE=URI:https://www.wildernesslakecdd.org/calendar/2585430/memorial-d
 ay-bbq-resident-appreciation-day
DTSTART:20210531T160000Z
DTEND:20210531T190000Z
END:VEVENT
END:VCALENDAR
