BEGIN:VCALENDAR
VERSION:2.0
PRODID:SchoolNow
CALSCALE:GREGORIAN
BEGIN:VEVENT
UID:a2f83660-a496-11eb-802a-0ed2eb0a5b1d
DTSTAMP:20210424T004725Z
SUMMARY:Yoga
LOCATION:Activities Center
URL;VALUE=URI:https://www.wildernesslakecdd.org/calendar/2585428/yoga
DTSTART:20210427T121500Z
DTEND:20210427T134500Z
END:VEVENT
END:VCALENDAR
