BEGIN:VCALENDAR
VERSION:2.0
PRODID:SchoolNow
CALSCALE:GREGORIAN
BEGIN:VEVENT
UID:5381bcc8-a496-11eb-875e-0ed2eb0a5b1d
DTSTAMP:20210424T004511Z
SUMMARY:Water Aerobics
LOCATION:Lap Pool
URL;VALUE=URI:https://www.wildernesslakecdd.org/calendar/2585427/water-aero
 bics
DTSTART:20210501T013000Z
DTEND:20210501T023000Z
END:VEVENT
END:VCALENDAR
