BEGIN:VCALENDAR
VERSION:2.0
PRODID:SchoolNow
CALSCALE:GREGORIAN
BEGIN:VEVENT
UID:34fd128e-a496-11eb-b6a7-0ed2eb0a5b1d
DTSTAMP:20210424T004420Z
SUMMARY:Water Aerobics
LOCATION:Lap Pool
URL;VALUE=URI:https://www.wildernesslakecdd.org/calendar/2585426/water-aero
 bics
DTSTART:20210429T133000Z
DTEND:20210429T143000Z
END:VEVENT
END:VCALENDAR
