BEGIN:VCALENDAR
VERSION:2.0
PRODID:SchoolNow
CALSCALE:GREGORIAN
BEGIN:VEVENT
UID:19d96dd6-a496-11eb-a11b-0ed2eb0a5b1d
DTSTAMP:20210424T004335Z
SUMMARY:Water Aerobics
LOCATION:Lap Pool
URL;VALUE=URI:https://www.wildernesslakecdd.org/calendar/2585425/water-aero
 bics
DTSTART:20210428T133000Z
DTEND:20210428T143000Z
END:VEVENT
END:VCALENDAR
