BEGIN:VCALENDAR
VERSION:2.0
PRODID:SchoolNow
CALSCALE:GREGORIAN
BEGIN:VEVENT
UID:bf1a1508-a495-11eb-a857-0ed2eb0a5b1d
DTSTAMP:20210424T004102Z
SUMMARY:Water Aerobics
LOCATION:Lap Pool
URL;VALUE=URI:https://www.wildernesslakecdd.org/calendar/2585423/water-aero
 bics
DTSTART:20210427T133000Z
DTEND:20210427T143000Z
END:VEVENT
END:VCALENDAR
