BEGIN:VCALENDAR
VERSION:2.0
PRODID:SchoolNow
CALSCALE:GREGORIAN
BEGIN:VEVENT
UID:a6192468-a495-11eb-92a1-0ed2eb0a5b1d
DTSTAMP:20210424T004020Z
SUMMARY:Water Aerobics
LOCATION:Lap Pool
URL;VALUE=URI:https://www.wildernesslakecdd.org/calendar/2585422/water-aero
 bics
DTSTART:20210426T133000Z
DTEND:20210426T143000Z
END:VEVENT
END:VCALENDAR
