BEGIN:VCALENDAR
VERSION:2.0
PRODID:SchoolNow
CALSCALE:GREGORIAN
BEGIN:VEVENT
UID:b7071d04-928c-11eb-a209-02f64016d581
DTSTAMP:20210401T015102Z
SUMMARY:Boot Camp
LOCATION:Basketball Court
URL;VALUE=URI:https://www.wildernesslakecdd.org/calendar/2565554/boot-camp
DTSTART:20210416T130000Z
DTEND:20210416T140000Z
END:VEVENT
END:VCALENDAR
