BEGIN:VCALENDAR
VERSION:2.0
PRODID:SchoolNow
CALSCALE:GREGORIAN
BEGIN:VEVENT
UID:8b06d910-928c-11eb-a66f-02f64016d581
DTSTAMP:20210401T014949Z
SUMMARY:Boot Camp
LOCATION:Basketball Court
URL;VALUE=URI:https://www.wildernesslakecdd.org/calendar/2565553/boot-camp
DTSTART:20210414T130000Z
DTEND:20210414T140000Z
END:VEVENT
END:VCALENDAR
