BEGIN:VCALENDAR
VERSION:2.0
PRODID:SchoolNow
CALSCALE:GREGORIAN
BEGIN:VEVENT
UID:59144776-928c-11eb-9eb6-02f64016d581
DTSTAMP:20210401T014825Z
SUMMARY:Boot Camp
LOCATION:Basketball Court
URL;VALUE=URI:https://www.wildernesslakecdd.org/calendar/2565552/boot-camp
DTSTART:20210412T130000Z
DTEND:20210412T140000Z
END:VEVENT
END:VCALENDAR
