BEGIN:VCALENDAR
VERSION:2.0
PRODID:SchoolNow
CALSCALE:GREGORIAN
BEGIN:VEVENT
UID:825dedd8-9289-11eb-857e-0a74f71c2c6b
DTSTAMP:20210401T012806Z
SUMMARY:Boot Camp
LOCATION:Basketball Court
URL;VALUE=URI:https://www.wildernesslakecdd.org/calendar/2565551/boot-camp
DTSTART:20210407T130000Z
DTEND:20210407T140000Z
END:VEVENT
END:VCALENDAR
