BEGIN:VCALENDAR
VERSION:2.0
PRODID:SchoolNow
CALSCALE:GREGORIAN
BEGIN:VEVENT
UID:5bd8b95e-9289-11eb-9dee-0a74f71c2c6b
DTSTAMP:20210401T012701Z
SUMMARY:Boot Camp
LOCATION:Basketball Court
URL;VALUE=URI:https://www.wildernesslakecdd.org/calendar/2565550/boot-camp
DTSTART:20210405T130000Z
DTEND:20210405T140000Z
END:VEVENT
END:VCALENDAR
