BEGIN:VCALENDAR
VERSION:2.0
PRODID:SchoolNow
CALSCALE:GREGORIAN
BEGIN:VEVENT
UID:35012c30-9289-11eb-b556-0a74f71c2c6b
DTSTAMP:20210401T012556Z
SUMMARY:Boot Camp
LOCATION:Basketball Court
URL;VALUE=URI:https://www.wildernesslakecdd.org/calendar/2565549/boot-camp
DTSTART:20210402T130000Z
DTEND:20210402T140000Z
END:VEVENT
END:VCALENDAR
