BEGIN:VCALENDAR
VERSION:2.0
PRODID:SchoolNow
CALSCALE:GREGORIAN
BEGIN:VEVENT
UID:b4a76004-9288-11eb-b88f-0adfa92278e5
DTSTAMP:20210401T012220Z
SUMMARY:Yoga
LOCATION:Activities Center
URL;VALUE=URI:https://www.wildernesslakecdd.org/calendar/2565548/yoga
DTSTART:20210415T121500Z
DTEND:20210415T131500Z
END:VEVENT
END:VCALENDAR
