BEGIN:VCALENDAR
VERSION:2.0
PRODID:SchoolNow
CALSCALE:GREGORIAN
BEGIN:VEVENT
UID:97732ee6-9288-11eb-b196-0adfa92278e5
DTSTAMP:20210401T012131Z
SUMMARY:Yoga
LOCATION:Activities Center
URL;VALUE=URI:https://www.wildernesslakecdd.org/calendar/2565547/yoga
DTSTART:20210413T121500Z
DTEND:20210413T131500Z
END:VEVENT
END:VCALENDAR
