BEGIN:VCALENDAR
VERSION:2.0
PRODID:SchoolNow
CALSCALE:GREGORIAN
BEGIN:VEVENT
UID:73057302-9288-11eb-ad79-0adfa92278e5
DTSTAMP:20210401T012030Z
SUMMARY:Yoga
LOCATION:Activities Center
URL;VALUE=URI:https://www.wildernesslakecdd.org/calendar/2565546/yoga
DTSTART:20210408T121500Z
DTEND:20210408T134500Z
END:VEVENT
END:VCALENDAR
