BEGIN:VCALENDAR
VERSION:2.0
PRODID:SchoolNow
CALSCALE:GREGORIAN
BEGIN:VEVENT
UID:4c86a2aa-9288-11eb-8379-0adfa92278e5
DTSTAMP:20210401T011926Z
SUMMARY:Yoga
LOCATION:Activiities Center
URL;VALUE=URI:https://www.wildernesslakecdd.org/calendar/2565545/yoga
DTSTART:20210406T121500Z
DTEND:20210406T134500Z
END:VEVENT
END:VCALENDAR
