BEGIN:VCALENDAR
VERSION:2.0
PRODID:SchoolNow
CALSCALE:GREGORIAN
BEGIN:VEVENT
UID:1dd47dce-9288-11eb-b290-0adfa92278e5
DTSTAMP:20210401T011807Z
SUMMARY:Yoga
LOCATION:Activities Center
URL;VALUE=URI:https://www.wildernesslakecdd.org/calendar/2565544/yoga
DTSTART:20210401T121500Z
DTEND:20210401T134500Z
END:VEVENT
END:VCALENDAR
