BEGIN:VCALENDAR
VERSION:2.0
PRODID:SchoolNow
CALSCALE:GREGORIAN
BEGIN:VEVENT
UID:acbc0ea4-9287-11eb-a482-0adfa92278e5
DTSTAMP:20210401T011458Z
SUMMARY:Walking\, Toning\, and Strengthening Class
LOCATION:Activities Center
URL;VALUE=URI:https://www.wildernesslakecdd.org/calendar/2565543/walking-to
 ning-and-strengthening-class
DTSTART:20210416T133000Z
DTEND:20210416T144500Z
END:VEVENT
END:VCALENDAR
