BEGIN:VCALENDAR
VERSION:2.0
PRODID:SchoolNow
CALSCALE:GREGORIAN
BEGIN:VEVENT
UID:82ea6f62-9287-11eb-b0d2-0adfa92278e5
DTSTAMP:20210401T011347Z
SUMMARY:Walking\, Toning\, and Strengthening Class
LOCATION:Activities Center
URL;VALUE=URI:https://www.wildernesslakecdd.org/calendar/2565542/walking-to
 ning-and-strengthening-class
DTSTART:20210414T133000Z
DTEND:20210414T144500Z
END:VEVENT
END:VCALENDAR
