BEGIN:VCALENDAR
VERSION:2.0
PRODID:SchoolNow
CALSCALE:GREGORIAN
BEGIN:VEVENT
UID:4af5b5a8-9287-11eb-babd-0adfa92278e5
DTSTAMP:20210401T011214Z
SUMMARY:Walking\, Toning\, and Strengthening Class
LOCATION:Activities Center
URL;VALUE=URI:https://www.wildernesslakecdd.org/calendar/2565541/walking-to
 ning-and-strengthening-class
DTSTART:20210412T133000Z
DTEND:20210412T144500Z
END:VEVENT
END:VCALENDAR
