BEGIN:VCALENDAR
VERSION:2.0
PRODID:SchoolNow
CALSCALE:GREGORIAN
BEGIN:VEVENT
UID:1a099126-9287-11eb-9be3-0adfa92278e5
DTSTAMP:20210401T011052Z
SUMMARY:Walking\, Toning\, and Strengthening Class
LOCATION:Activities Center
URL;VALUE=URI:https://www.wildernesslakecdd.org/calendar/2565540/walking-to
 ning-and-strengthening-class
DTSTART:20210409T133000Z
DTEND:20210409T144500Z
END:VEVENT
END:VCALENDAR
