BEGIN:VCALENDAR
VERSION:2.0
PRODID:SchoolNow
CALSCALE:GREGORIAN
BEGIN:VEVENT
UID:e6e2fbde-9286-11eb-9d0c-0adfa92278e5
DTSTAMP:20210401T010926Z
SUMMARY:Walking\, Toning\, and Strengthening Class
URL;VALUE=URI:https://www.wildernesslakecdd.org/calendar/2565539/walking-to
 ning-and-strengthening-class
DTSTART:20210407T133000Z
DTEND:20210407T144500Z
END:VEVENT
END:VCALENDAR
