BEGIN:VCALENDAR
VERSION:2.0
PRODID:SchoolNow
CALSCALE:GREGORIAN
BEGIN:VEVENT
UID:8a5926b8-9286-11eb-b7db-0adfa92278e5
DTSTAMP:20210401T010650Z
SUMMARY:Walking\, Toning\, and Strengthening Class
LOCATION:Activities Center
URL;VALUE=URI:https://www.wildernesslakecdd.org/calendar/2565538/walking-to
 ning-and-strengthening-class
DTSTART:20210405T133000Z
DTEND:20210405T144500Z
END:VEVENT
END:VCALENDAR
