BEGIN:VCALENDAR
VERSION:2.0
PRODID:SchoolNow
CALSCALE:GREGORIAN
BEGIN:VEVENT
UID:527fe696-9286-11eb-928f-0adfa92278e5
DTSTAMP:20210401T010517Z
SUMMARY:Walking\, Toning\, and Strengthening Class
LOCATION:Activities Center
URL;VALUE=URI:https://www.wildernesslakecdd.org/calendar/2565537/walking-to
 ning-and-strengthening-class
DTSTART:20210402T133000Z
DTEND:20210402T144500Z
END:VEVENT
END:VCALENDAR
