BEGIN:VCALENDAR
VERSION:2.0
PRODID:SchoolNow
CALSCALE:GREGORIAN
BEGIN:VEVENT
UID:9b14b794-80ff-11eb-b682-0a3f717ab925
DTSTAMP:20210309T174807Z
SUMMARY:HOA Meeting
URL;VALUE=URI:https://www.wildernesslakecdd.org/calendar/2553943/hoa-meetin
 g
DTSTART:20210309T233000Z
DTEND:20210310T010000Z
END:VEVENT
END:VCALENDAR
