BEGIN:VCALENDAR
VERSION:2.0
PRODID:SchoolNow
CALSCALE:GREGORIAN
BEGIN:VEVENT
UID:cbb9f78a-7b03-11eb-84bd-02792b70f3d5
DTSTAMP:20210302T030259Z
SUMMARY:ARC Mtg.
LOCATION:Lodge
URL;VALUE=URI:https://www.wildernesslakecdd.org/calendar/2550282/arc-mtg
DTSTART:20210301T233000Z
DTEND:20210302T010000Z
END:VEVENT
END:VCALENDAR
