BEGIN:VCALENDAR
VERSION:2.0
PRODID:SchoolNow
CALSCALE:GREGORIAN
BEGIN:VEVENT
UID:66d7f9ca-7b03-11eb-9fbf-02792b70f3d5
DTSTAMP:20210302T030010Z
SUMMARY:Drive-In Movie
LOCATION:Lodge Parking Lot
URL;VALUE=URI:https://www.wildernesslakecdd.org/calendar/2550280/drive-in-m
 ovie
DTSTART:20210319T233000Z
DTEND:20210320T003000Z
END:VEVENT
END:VCALENDAR
