BEGIN:VCALENDAR
VERSION:2.0
PRODID:SchoolNow
CALSCALE:GREGORIAN
BEGIN:VEVENT
UID:4b0083d4-7b03-11eb-966e-02792b70f3d5
DTSTAMP:20210302T025923Z
SUMMARY:Bacon Boss
LOCATION:Lodge Parking Lot
URL;VALUE=URI:https://www.wildernesslakecdd.org/calendar/2550279/bacon-boss
DTSTART:20210319T203000Z
DTEND:20210319T233000Z
END:VEVENT
END:VCALENDAR
