BEGIN:VCALENDAR
VERSION:2.0
PRODID:SchoolNow
CALSCALE:GREGORIAN
BEGIN:VEVENT
UID:276e0626-7b03-11eb-ac6b-02792b70f3d5
DTSTAMP:20210302T025824Z
SUMMARY:Bubble Mania
LOCATION:Lodge Courtyard
URL;VALUE=URI:https://www.wildernesslakecdd.org/calendar/2550278/bubble-man
 ia
DTSTART:20210318T170000Z
DTEND:20210318T190000Z
END:VEVENT
END:VCALENDAR
