BEGIN:VCALENDAR
VERSION:2.0
PRODID:SchoolNow
CALSCALE:GREGORIAN
BEGIN:VEVENT
UID:04c585e0-7b03-11eb-9b9a-02792b70f3d5
DTSTAMP:20210302T025726Z
SUMMARY:Leprechaun Safari
LOCATION:Lodge Campus
URL;VALUE=URI:https://www.wildernesslakecdd.org/calendar/2550277/leprechaun
 -safari
DTSTART:20210317T150000Z
DTEND:20210317T170000Z
END:VEVENT
END:VCALENDAR
