BEGIN:VCALENDAR
VERSION:2.0
PRODID:SchoolNow
CALSCALE:GREGORIAN
BEGIN:VEVENT
UID:d2f6e82e-7b02-11eb-9284-02792b70f3d5
DTSTAMP:20210302T025602Z
SUMMARY:Taco Tuesday
LOCATION:Lodge Courtyard
URL;VALUE=URI:https://www.wildernesslakecdd.org/calendar/2550276/taco-tuesd
 ay
DTSTART:20210316T160000Z
DTEND:20210316T180000Z
END:VEVENT
END:VCALENDAR
