BEGIN:VCALENDAR
VERSION:2.0
PRODID:SchoolNow
CALSCALE:GREGORIAN
BEGIN:VEVENT
UID:aa62ad76-7b02-11eb-8cc7-02792b70f3d5
DTSTAMP:20210302T025454Z
SUMMARY:T-shirt Tie Dye Day
LOCATION:Lodge Courtyard
URL;VALUE=URI:https://www.wildernesslakecdd.org/calendar/2550275/t-shirt-ti
 e-dye-day
DTSTART:20210315T170000Z
DTEND:20210315T190000Z
END:VEVENT
END:VCALENDAR
