BEGIN:VCALENDAR
VERSION:2.0
PRODID:SchoolNow
CALSCALE:GREGORIAN
BEGIN:VEVENT
UID:5ea0889a-7b02-11eb-a14a-02792b70f3d5
DTSTAMP:20210302T025247Z
SUMMARY:Boot Camp
LOCATION:Basketball Court
URL;VALUE=URI:https://www.wildernesslakecdd.org/calendar/2550274/boot-camp
DTSTART:20210331T130000Z
DTEND:20210331T140000Z
END:VEVENT
END:VCALENDAR
