BEGIN:VCALENDAR
VERSION:2.0
PRODID:SchoolNow
CALSCALE:GREGORIAN
BEGIN:VEVENT
UID:3cdb448e-7b02-11eb-9830-02792b70f3d5
DTSTAMP:20210302T025150Z
SUMMARY:Boot Camp
LOCATION:Basketball Court
URL;VALUE=URI:https://www.wildernesslakecdd.org/calendar/2550273/boot-camp
DTSTART:20210329T130000Z
DTEND:20210329T140000Z
END:VEVENT
END:VCALENDAR
