BEGIN:VCALENDAR
VERSION:2.0
PRODID:SchoolNow
CALSCALE:GREGORIAN
BEGIN:VEVENT
UID:2213610e-7b02-11eb-8535-02792b70f3d5
DTSTAMP:20210302T025105Z
SUMMARY:Boot Camp
LOCATION:Basketball Court
URL;VALUE=URI:https://www.wildernesslakecdd.org/calendar/2550272/boot-camp
DTSTART:20210326T130000Z
DTEND:20210326T140000Z
END:VEVENT
END:VCALENDAR
