BEGIN:VCALENDAR
VERSION:2.0
PRODID:SchoolNow
CALSCALE:GREGORIAN
BEGIN:VEVENT
UID:0400fb22-7b02-11eb-aec9-02792b70f3d5
DTSTAMP:20210302T025015Z
SUMMARY:Boot Camp
LOCATION:Basketball Court
URL;VALUE=URI:https://www.wildernesslakecdd.org/calendar/2550271/boot-camp
DTSTART:20210324T130000Z
DTEND:20210324T140000Z
END:VEVENT
END:VCALENDAR
