BEGIN:VCALENDAR
VERSION:2.0
PRODID:SchoolNow
CALSCALE:GREGORIAN
BEGIN:VEVENT
UID:ea54bf06-7b01-11eb-8ab6-02792b70f3d5
DTSTAMP:20210302T024932Z
SUMMARY:Boot Camp
LOCATION:Basketball Court
URL;VALUE=URI:https://www.wildernesslakecdd.org/calendar/2550270/boot-camp
DTSTART:20210322T130000Z
DTEND:20210322T140000Z
END:VEVENT
END:VCALENDAR
