BEGIN:VCALENDAR
VERSION:2.0
PRODID:SchoolNow
CALSCALE:GREGORIAN
BEGIN:VEVENT
UID:cf82277c-7b01-11eb-b458-02792b70f3d5
DTSTAMP:20210302T024847Z
SUMMARY:Boot Camp
LOCATION:Basketball Court
URL;VALUE=URI:https://www.wildernesslakecdd.org/calendar/2550269/boot-camp
DTSTART:20210319T130000Z
DTEND:20210319T140000Z
END:VEVENT
END:VCALENDAR
