BEGIN:VCALENDAR
VERSION:2.0
PRODID:SchoolNow
CALSCALE:GREGORIAN
BEGIN:VEVENT
UID:b742874c-7b01-11eb-b61a-02792b70f3d5
DTSTAMP:20210302T024806Z
SUMMARY:Boot Camp
LOCATION:Basketball Court
URL;VALUE=URI:https://www.wildernesslakecdd.org/calendar/2550268/boot-camp
DTSTART:20210317T130000Z
DTEND:20210317T140000Z
END:VEVENT
END:VCALENDAR
