BEGIN:VCALENDAR
VERSION:2.0
PRODID:SchoolNow
CALSCALE:GREGORIAN
BEGIN:VEVENT
UID:9ebff4a2-7b01-11eb-8389-02792b70f3d5
DTSTAMP:20210302T024725Z
SUMMARY:Boot Camp
LOCATION:Basketball Court
URL;VALUE=URI:https://www.wildernesslakecdd.org/calendar/2550267/boot-camp
DTSTART:20210315T130000Z
DTEND:20210315T140000Z
END:VEVENT
END:VCALENDAR
