BEGIN:VCALENDAR
VERSION:2.0
PRODID:SchoolNow
CALSCALE:GREGORIAN
BEGIN:VEVENT
UID:5276c1ac-7b01-11eb-be8f-02792b70f3d5
DTSTAMP:20210302T024517Z
SUMMARY:Boot Camp
LOCATION:Basketball Court
URL;VALUE=URI:https://www.wildernesslakecdd.org/calendar/2550266/boot-camp
DTSTART:20210312T140000Z
DTEND:20210312T150000Z
END:VEVENT
END:VCALENDAR
