BEGIN:VCALENDAR
VERSION:2.0
PRODID:SchoolNow
CALSCALE:GREGORIAN
BEGIN:VEVENT
UID:39f53cb2-7b01-11eb-917b-02792b70f3d5
DTSTAMP:20210302T024636Z
SUMMARY:Boot Camp
LOCATION:Basketball Court
URL;VALUE=URI:https://www.wildernesslakecdd.org/calendar/2550265/boot-camp
DTSTART:20210310T140000Z
DTEND:20210310T150000Z
END:VEVENT
END:VCALENDAR
