BEGIN:VCALENDAR
VERSION:2.0
PRODID:SchoolNow
CALSCALE:GREGORIAN
BEGIN:VEVENT
UID:0e6859da-7b01-11eb-93b8-02792b70f3d5
DTSTAMP:20210302T024323Z
SUMMARY:Boot Camp
LOCATION:Basketball Court
URL;VALUE=URI:https://www.wildernesslakecdd.org/calendar/2550264/boot-camp
DTSTART:20210308T140000Z
DTEND:20210308T150000Z
END:VEVENT
END:VCALENDAR
