BEGIN:VCALENDAR
VERSION:2.0
PRODID:SchoolNow
CALSCALE:GREGORIAN
BEGIN:VEVENT
UID:ce0a7404-7b00-11eb-8f31-02792b70f3d5
DTSTAMP:20210302T024549Z
SUMMARY:Boot Camp
LOCATION:Basketball Court
URL;VALUE=URI:https://www.wildernesslakecdd.org/calendar/2550262/boot-camp
DTSTART:20210305T140000Z
DTEND:20210305T150000Z
END:VEVENT
END:VCALENDAR
