BEGIN:VCALENDAR
VERSION:2.0
PRODID:SchoolNow
CALSCALE:GREGORIAN
BEGIN:VEVENT
UID:b4eab2c2-7b00-11eb-9e96-02792b70f3d5
DTSTAMP:20210302T024538Z
SUMMARY:Boot Camp
LOCATION:Basketball Court
URL;VALUE=URI:https://www.wildernesslakecdd.org/calendar/2550261/boot-camp
DTSTART:20210303T140000Z
DTEND:20210303T150000Z
END:VEVENT
END:VCALENDAR
